BEGIN:VCALENDAR\
VERSION:2.0\
PRODID:-//Goat Sport Connections - ECPv6.15.18//NONSGML v1.0//EN\
CALSCALE:GREGORIAN\
METHOD:PUBLISH\
X-WR-CALNAME:Goat Sport Connections
X-ORIGINAL-URL:https://www.goatsportconnections.com\
X-WR-CALDESC:Eventi per Goat Sport Connections\
REFRESH-INTERVAL;VALUE=DURATION:PT1H\
X-Robots-Tag:noindex\
X-PUBLISHED-TTL:PT1H
BEGIN:VTIMEZONE
TZID:America/Argentina/Buenos_Aires
BEGIN:STANDARD
TZOFFSETFROM:-0300
TZOFFSETTO:-0300
TZNAME:-03
DTSTART:20240101T000000
END:STANDARD;
END:VTIMEZONE;
BEGIN:VEVENT;
DTSTART;TZID=America/Argentina/Buenos_Aires:20260307T180000;
DTEND;TZID=America/Argentina/Buenos_Aires:20260307T193000
DTSTAMP:20260419T124503\
CREATED:20260218T194743Z\
LAST-MODIFIED:20260218T194932Z
UID:2351-1772906400-1772911800@www.goatsportconnections.com
SUMMARY:Borse di studio universitarie per golfisti
DESCRIPTION:Uno spazio di incontro dedicato ai giovani golfisti che desiderano ottenere una borsa di studio universitaria per competere e studiare negli Stati Uniti. \nL'evento è organizzato congiuntamente da GOAT Sport Connections\, FENOBA e Junín Golf Club. \nPer partecipare\, contattare il numero +54 9 2364 69-1608 (Pablo Martínez).
URL:https://www.goatsportconnections.com/event/becas-universitarias-para-golfistas/\
LOCATION:Junín Golf Club, RN7, Junín, Buenos Aires, 6000, Argentina\
CATEGORIES:Conferenze informative
ATTACH;FMTTYPE=image/jpeg:https://www.goatsportconnections.com/wp-content/uploads/2026/02/becas-para-golfistas.jpg
ORGANIZER;CN="Goat Sport Connections":MAILTO:info@www.goatsportconnections.com
END:VEVENT
BEGIN:VEVENT
DTSTART;TZID=America/Argentina/Buenos_Aires:20260211T123000
DTEND;TZID=America/Argentina/Buenos_Aires:20260211T140000
DTSTAMP:20260419T124503
CREATED:20260207T141208Z
LAST-MODIFIED:20260207T141836Z
UID:2331-1770813000-1770818400@www.goatsportconnections.com
SUMMARY:Borse di studio universitarie per tennisti
DESCRIZIONE:Un evento di incontro rivolto ai giovani tennisti che desiderano ottenere una borsa di studio universitaria per competere e studiare negli Stati Uniti. \nL'evento è organizzato congiuntamente da GOAT Sport Connections e dalle accademie: Bella Vista Academia de Tenis e TAC Tenis. \nPer partecipare\, contattare il numero +54 9 11 5856-4610
URL:https://www.goatsportconnections.com/event/becas-universitarias-para-tenistas/\
LOCATION:Club de Empleados BBVA, Flaubert 700, Bella Vista, Buenos Aires, B1661, Argentina\
CATEGORIES:Incontri informativi
ATTACH;FMTTYPE=image/jpeg:https://www.goatsportconnections.com/wp-content/uploads/2026/02/Becas-Universitarias-para-Tenistas.jpg
ORGANIZER;CN="Goat Sport Connections":MAILTO:info@www.goatsportconnections.com
END:VEVENT
BEGIN:VEVENT
DTSTART;TZID=America/Argentina/Buenos_Aires:20251128T180000
DTEND;TZID=America/Argentina/Buenos_Aires:20251128T230000
DTSTAMP:20260419T124503
CREATED:20251120T132514Z;
LAST-MODIFIED:20251120T194439Z;
UID:788-1764352800-1764370800@www.goatsportconnections.com;
SUMMARY:Notte delle Stelle
DESCRIZIONE:Uno spettacolo esclusivo di livello internazionale da godersi in famiglia e rafforzare i legami della nostra comunità. Nasce dall'unione tra la passione e lo spirito comunitario di Elite Sports\, e la rete globale e la professionalità di GOAT Sport Connections. \nInformazioni sul team organizzativo:\nES e GOAT promuovono lo sviluppo dello sport come motore di unione e crescita\, creando opportunità per atleti\,\nresidenti e soci. \nGrazie a una rete globale e alla conoscenza del settore\, i nostri team combinano la passione locale con l'eccellenza internazionale per dare vita a eventi che ispirano e trasformano.
URL:https://www.goatsportconnections.com/event/noche-de-estrellas/
LOCATION:Terralagos\, Los Robles 5901\, Canning\, Buenos Aires\, 1803\, Argentina\
CATEGORIES:Esibizioni\
ATTACH;FMTTYPE=image/png:https://www.goatsportconnections.com/wp-content/uploads/2025/11/flyer-1-scaled.png
ORGANIZZATORE;CN="Goat Sport Connections":MAILTO:info@www.goatsportconnections.com
END:VEVENT
END:VCALENDAR