BEGIN:VCALENDAR\
VERSION:2.0\
PRODID:-//Goat Sport Connections - ECPv6.15.18//NONSGML v1.0//EN\
CALSCALE:GREGORIAN\
METHOD:PUBLISH\
X-ORIGINAL-URL:https://www.goatsportconnections.com
X-WR-CALDESC:Events for Goat Sport Connections\
REFRESH-INTERVAL;VALUE=DURATION:PT1H\
X-Robots-Tag:noindex\
X-PUBLISHED-TTL:PT1H\
BEGIN:VTIMEZONE\
TZID:America/Argentina/Buenos_Aires
BEGIN:STANDARD
TZOFFSETFROM:-0300
TZOFFSETTO:-0300
TZNAME:-03
DTSTART:20240101T000000
END:STANDARD
END:VTIMEZONE
BEGIN:VEVENT
DTSTART;TZID=America/Argentina/Buenos_Aires:20260307T180000;
DTEND;TZID=America/Argentina/Buenos_Aires:20260307T193000;
DTSTAMP:20260419T122558
CREATED:20260218T194743Z\
LAST-MODIFIED:20260218T194932Z\
UID:2351-1772906400-1772911800@www.goatsportconnections.com\
SUMMARY:College Scholarships for Golfers
DESCRIPTION:A forum for young golfers seeking to obtain a college scholarship to compete and study in the United States. \nThe event is organized jointly by GOAT Sport Connections\, FENOBA\, and Junín Golf Club. \nTo participate\, please contact +54 9 2364 69-1608 (Pablo Martínez).
URL:https://www.goatsportconnections.com/event/becas-universitarias-para-golfistas/\
LOCATION:Junín Golf Club, RN7, Junín, Buenos Aires, 6000, Argentina\
CATEGORIES:Informational Talks
ATTACH;FMTTYPE=image/jpeg:https://www.goatsportconnections.com/wp-content/uploads/2026/02/becas-para-golfistas.jpg
ORGANIZER;CN="Goat Sport Connections":MAILTO:info@www.goatsportconnections.com
END:VEVENT
BEGIN:VEVENT
DTSTART;TZID=America/Argentina/Buenos_Aires:20260211T123000
DTEND;TZID=America/Argentina/Buenos_Aires:20260211T140000
DTSTAMP:20260419T122558
CREATED:20260207T141208Z
LAST-MODIFIED:20260207T141836Z
UID:2331-1770813000-1770818400@www.goatsportconnections.com
SUMMARY:College Scholarships for Tennis Players
DESCRIPTION:A series of talks aimed at young tennis players seeking to obtain a university scholarship to compete and study in the United States. \nThe event is organized jointly by GOAT Sport Connections and the following academies: Bella Vista Tennis Academy and TAC Tennis. \nTo participate, please call +54 9 11 5856-4610
URL:https://www.goatsportconnections.com/event/becas-universitarias-para-tenistas/\
LOCATION:BBVA Employees' Club, Flaubert 700, Bella Vista, Buenos Aires, B1661, Argentina\
CATEGORIES:Informational Talks
ATTACH;FMTTYPE=image/jpeg:https://www.goatsportconnections.com/wp-content/uploads/2026/02/Becas-Universitarias-para-Tenistas.jpg\
ORGANIZER;CN="Goat Sport Connections":MAILTO:info@www.goatsportconnections.com\
END:VEVENT
BEGIN:VEVENT
DTSTART;TZID=America/Argentina/Buenos_Aires:20251128T180000
DTEND;TZID=America/Argentina/Buenos_Aires:20251128T230000
DTSTAMP:20260419T122558
CREATED:20251120T132514Z\
LAST-MODIFIED:20251120T194439Z\
UID:788-1764352800-1764370800@www.goatsportconnections.com\
SUMMARY:Night of Stars
DESCRIPTION:An exclusive world-class show to enjoy with the family and strengthen the bonds of our community. It stems from the union between Elite Sports’ passion and community spirit, and GOAT Sport Connections’ global network and professionalism. \nAbout the Organizing Team:\nES and GOAT promote the development of sports as a driving force for unity and growth, creating opportunities for athletes, residents, and partners. \nWith a global network and industry expertise\, our teams combine local passion with international excellence to bring to life events that inspire and transform.
URL:https://www.goatsportconnections.com/event/noche-de-estrellas/
LOCATION:Terralagos, Los Robles 5901, Canning, Buenos Aires, 1803, Argentina
CATEGORIES:Exhibitions
ATTACH;FMTTYPE=image/png:https://www.goatsportconnections.com/wp-content/uploads/2025/11/flyer-1-scaled.png
ORGANIZER;CN="Goat Sport Connections":MAILTO:info@www.goatsportconnections.com\
END:VEVENT\
END:VCALENDAR